BEGIN:VCALENDAR
VERSION:2.0
PRODID:-//Steer Your Business - ECPv6.15.20//NONSGML v1.0//EN
CALSCALE:GREGORIAN
METHOD:PUBLISH
X-WR-CALNAME:Steer Your Business
X-ORIGINAL-URL:https://steeryourbusiness.com
X-WR-CALDESC:Events for Steer Your Business
REFRESH-INTERVAL;VALUE=DURATION:PT1H
X-Robots-Tag:noindex
X-PUBLISHED-TTL:PT1H
BEGIN:VTIMEZONE
TZID:Europe/London
BEGIN:DAYLIGHT
TZOFFSETFROM:+0000
TZOFFSETTO:+0100
TZNAME:BST
DTSTART:20210328T010000
END:DAYLIGHT
BEGIN:STANDARD
TZOFFSETFROM:+0100
TZOFFSETTO:+0000
TZNAME:GMT
DTSTART:20211031T010000
END:STANDARD
BEGIN:DAYLIGHT
TZOFFSETFROM:+0000
TZOFFSETTO:+0100
TZNAME:BST
DTSTART:20220327T010000
END:DAYLIGHT
BEGIN:STANDARD
TZOFFSETFROM:+0100
TZOFFSETTO:+0000
TZNAME:GMT
DTSTART:20221030T010000
END:STANDARD
BEGIN:DAYLIGHT
TZOFFSETFROM:+0000
TZOFFSETTO:+0100
TZNAME:BST
DTSTART:20230326T010000
END:DAYLIGHT
BEGIN:STANDARD
TZOFFSETFROM:+0100
TZOFFSETTO:+0000
TZNAME:GMT
DTSTART:20231029T010000
END:STANDARD
END:VTIMEZONE
BEGIN:VEVENT
DTSTART;TZID=Europe/London:20220727T150000
DTEND;TZID=Europe/London:20220727T170000
DTSTAMP:20260419T200837
CREATED:20220713T123554Z
LAST-MODIFIED:20220715T073541Z
UID:8570-1658934000-1658941200@steeryourbusiness.com
SUMMARY:Steer Your Business Networking
DESCRIPTION:Face to face networking at the fabulous Curious Brewery in Ashford\, Kent \nCome along and meet some like-minded business owners and see how you can support eac other
URL:https://steeryourbusiness.com/event/steer-your-business-networking-3/
CATEGORIES:Networking
ORGANIZER;CN="Steer Your Business":MAILTO:Sally@steeryourbusiness.com
END:VEVENT
END:VCALENDAR