BEGIN:VCALENDAR
VERSION:2.0
PRODID:-//Steer Your Business - ECPv6.15.20//NONSGML v1.0//EN
CALSCALE:GREGORIAN
METHOD:PUBLISH
X-WR-CALNAME:Steer Your Business
X-ORIGINAL-URL:https://steeryourbusiness.com
X-WR-CALDESC:Events for Steer Your Business
REFRESH-INTERVAL;VALUE=DURATION:PT1H
X-Robots-Tag:noindex
X-PUBLISHED-TTL:PT1H
BEGIN:VTIMEZONE
TZID:Europe/London
BEGIN:DAYLIGHT
TZOFFSETFROM:+0000
TZOFFSETTO:+0100
TZNAME:BST
DTSTART:20220327T010000
END:DAYLIGHT
BEGIN:STANDARD
TZOFFSETFROM:+0100
TZOFFSETTO:+0000
TZNAME:GMT
DTSTART:20221030T010000
END:STANDARD
BEGIN:DAYLIGHT
TZOFFSETFROM:+0000
TZOFFSETTO:+0100
TZNAME:BST
DTSTART:20230326T010000
END:DAYLIGHT
BEGIN:STANDARD
TZOFFSETFROM:+0100
TZOFFSETTO:+0000
TZNAME:GMT
DTSTART:20231029T010000
END:STANDARD
BEGIN:DAYLIGHT
TZOFFSETFROM:+0000
TZOFFSETTO:+0100
TZNAME:BST
DTSTART:20240331T010000
END:DAYLIGHT
BEGIN:STANDARD
TZOFFSETFROM:+0100
TZOFFSETTO:+0000
TZNAME:GMT
DTSTART:20241027T010000
END:STANDARD
END:VTIMEZONE
BEGIN:VEVENT
DTSTART;TZID=Europe/London:20230413T120000
DTEND;TZID=Europe/London:20230413T140000
DTSTAMP:20260420T031803
CREATED:20230316T091224Z
LAST-MODIFIED:20230316T091224Z
UID:8919-1681387200-1681394400@steeryourbusiness.com
SUMMARY:Networking Lunch At The Curious Brewery
DESCRIPTION:Informal networking over a delicious lunch with like-minded businesses from in and around Ashford \nBook your place here – https://www.eventbrite.co.uk/e/578609646027
URL:https://steeryourbusiness.com/event/networking-lunch-at-the-curious-brewery/
CATEGORIES:Networking
ATTACH;FMTTYPE=image/jpeg:https://steeryourbusiness.com/wp-content/uploads/2023/02/Curious-Brewery.jpg
END:VEVENT
END:VCALENDAR