BEGIN:VCALENDAR
VERSION:2.0
PRODID:-//Steer Your Business - ECPv6.15.20//NONSGML v1.0//EN
CALSCALE:GREGORIAN
METHOD:PUBLISH
X-WR-CALNAME:Steer Your Business
X-ORIGINAL-URL:https://steeryourbusiness.com
X-WR-CALDESC:Events for Steer Your Business
REFRESH-INTERVAL;VALUE=DURATION:PT1H
X-Robots-Tag:noindex
X-PUBLISHED-TTL:PT1H
BEGIN:VTIMEZONE
TZID:Europe/London
BEGIN:DAYLIGHT
TZOFFSETFROM:+0000
TZOFFSETTO:+0100
TZNAME:BST
DTSTART:20220327T010000
END:DAYLIGHT
BEGIN:STANDARD
TZOFFSETFROM:+0100
TZOFFSETTO:+0000
TZNAME:GMT
DTSTART:20221030T010000
END:STANDARD
BEGIN:DAYLIGHT
TZOFFSETFROM:+0000
TZOFFSETTO:+0100
TZNAME:BST
DTSTART:20230326T010000
END:DAYLIGHT
BEGIN:STANDARD
TZOFFSETFROM:+0100
TZOFFSETTO:+0000
TZNAME:GMT
DTSTART:20231029T010000
END:STANDARD
BEGIN:DAYLIGHT
TZOFFSETFROM:+0000
TZOFFSETTO:+0100
TZNAME:BST
DTSTART:20240331T010000
END:DAYLIGHT
BEGIN:STANDARD
TZOFFSETFROM:+0100
TZOFFSETTO:+0000
TZNAME:GMT
DTSTART:20241027T010000
END:STANDARD
END:VTIMEZONE
BEGIN:VEVENT
DTSTART;TZID=Europe/London:20230810T120000
DTEND;TZID=Europe/London:20230810T140000
DTSTAMP:20260420T044956
CREATED:20230525T084027Z
LAST-MODIFIED:20230704T112417Z
UID:9004-1691668800-1691676000@steeryourbusiness.com
SUMMARY:Networking lunch at the Blacksmiths Arms\, Ashford
DESCRIPTION:Join us for some informal networking with delicious food at a fabulous venue and meet local businesses. \nThis is a great opportunity to network in relaxed surroundings and get to know some local businesses
URL:https://steeryourbusiness.com/event/networking-lunch-at-the-blacksmiths-arms-2/
LOCATION:Blacksmiths Arms\, 84 The Street\, Ashford\, Kent\, TN24 0NA
CATEGORIES:Networking
ATTACH;FMTTYPE=image/jpeg:https://steeryourbusiness.com/wp-content/uploads/2023/05/Blacksmiths-arms.jpeg
ORGANIZER;CN="Steer Your Business":MAILTO:Sally@steeryourbusiness.com
END:VEVENT
BEGIN:VEVENT
DTSTART;TZID=Europe/London:20230821T100000
DTEND;TZID=Europe/London:20230821T110000
DTSTAMP:20260420T044956
CREATED:20230809T150524Z
LAST-MODIFIED:20230814T120451Z
UID:9144-1692612000-1692615600@steeryourbusiness.com
SUMMARY:Masterclass: How Healthy Is Your Business?
DESCRIPTION:Do you make decisions based on guess work or just winging it?  If you have reliable data\, you can make informed decisions and get better outcomes. \nUsing a simple management tool\, you can see how healthy your business is at a glance and where you need to take action. \nWe will look at 4 key areas of your business and find out what is really happening using data that you already have. \nIf you run a business\, big or small\, then this is for you. \nReserve your place here
URL:https://steeryourbusiness.com/event/how-healthy-is-your-business/
LOCATION:Kent
END:VEVENT
BEGIN:VEVENT
DTSTART;TZID=Europe/London:20230823T150000
DTEND;TZID=Europe/London:20230823T170000
DTSTAMP:20260420T044956
CREATED:20230807T110128Z
LAST-MODIFIED:20230807T110128Z
UID:9138-1692802800-1692810000@steeryourbusiness.com
SUMMARY:Networking At The Blacksmiths Arms\, Ashford
DESCRIPTION:Informal networking at the Blacksmiths Arms in Ashford. \nCome and join us for some informal conversations with like-minded businesses who want to support and collaborate \nTickets available on Eventbrite.
URL:https://steeryourbusiness.com/event/networking-at-the-blacksmiths-arms-ashford/
LOCATION:Blacksmiths Arms\, 84 The Street\, Ashford\, Kent\, TN24 0NA
ATTACH;FMTTYPE=image/jpeg:https://steeryourbusiness.com/wp-content/uploads/2023/05/Blacksmiths-arms.jpeg
ORGANIZER;CN="Steer Your Business":MAILTO:Sally@steeryourbusiness.com
END:VEVENT
BEGIN:VEVENT
DTSTART;TZID=Europe/London:20230828T100000
DTEND;TZID=Europe/London:20230828T123000
DTSTAMP:20260420T044956
CREATED:20230809T185525Z
LAST-MODIFIED:20230814T104217Z
UID:9146-1693216800-1693225800@steeryourbusiness.com
SUMMARY:Workshop:  How Healthy Is Your Business?
DESCRIPTION:A very practical workshop where we will work on YOUR business looking at the key data that you need to review on a regular basis. \nWhen you implement this simple management tool\, you will have a holistic view of what’s happening in each area of your business. \nYou will be able to see at a glance where you need to take action\, what’s working and what’s not. \nIt will help you get clarity on which direction you should be going – and sometimes that’s not where you think! \nWe will work on a simple template so that you have a scorecard to take away \nBook your space here. \nSpaces are limited so don’t delay
URL:https://steeryourbusiness.com/event/workshop-how-healthy-is-your-business/
LOCATION:Kent
END:VEVENT
END:VCALENDAR