BEGIN:VCALENDAR
VERSION:2.0
PRODID:-//Steer Your Business - ECPv6.15.20//NONSGML v1.0//EN
CALSCALE:GREGORIAN
METHOD:PUBLISH
X-WR-CALNAME:Steer Your Business
X-ORIGINAL-URL:https://steeryourbusiness.com
X-WR-CALDESC:Events for Steer Your Business
REFRESH-INTERVAL;VALUE=DURATION:PT1H
X-Robots-Tag:noindex
X-PUBLISHED-TTL:PT1H
BEGIN:VTIMEZONE
TZID:Europe/London
BEGIN:DAYLIGHT
TZOFFSETFROM:+0000
TZOFFSETTO:+0100
TZNAME:BST
DTSTART:20230326T010000
END:DAYLIGHT
BEGIN:STANDARD
TZOFFSETFROM:+0100
TZOFFSETTO:+0000
TZNAME:GMT
DTSTART:20231029T010000
END:STANDARD
BEGIN:DAYLIGHT
TZOFFSETFROM:+0000
TZOFFSETTO:+0100
TZNAME:BST
DTSTART:20240331T010000
END:DAYLIGHT
BEGIN:STANDARD
TZOFFSETFROM:+0100
TZOFFSETTO:+0000
TZNAME:GMT
DTSTART:20241027T010000
END:STANDARD
BEGIN:DAYLIGHT
TZOFFSETFROM:+0000
TZOFFSETTO:+0100
TZNAME:BST
DTSTART:20250330T010000
END:DAYLIGHT
BEGIN:STANDARD
TZOFFSETFROM:+0100
TZOFFSETTO:+0000
TZNAME:GMT
DTSTART:20251026T010000
END:STANDARD
END:VTIMEZONE
BEGIN:VEVENT
DTSTART;TZID=Europe/London:20241106T183000
DTEND;TZID=Europe/London:20241106T203000
DTSTAMP:20260420T050722
CREATED:20240823T164035Z
LAST-MODIFIED:20240823T164035Z
UID:9731-1730917800-1730925000@steeryourbusiness.com
SUMMARY:Gittgo Tunbridge Wells\, Kent
DESCRIPTION:Gittgo  \nGittgo networking experience is conducive to building business relationships and gives everyone the chance to evenly showcase their businesses across the network in a structured but relaxed environment.  \nMonthly network meetings are lead by Gittgo Ambassasdors within the club and each month we will have spotlight speakers.  \nAt your spotlight event you can:  \nBring along marketing material to set out (pull up banner\, promotional items etc)  \nSpeak for 1-2 minutes to introduce your business. Keep it short and sweet (Please note  \nthis is optional)  \nShowcase your product range  \nUpon arrival you will receive a name badge holder to display your name or your business  \ncard.  \nGittgo Networking Structure:  \n6:30pm – Members arrive\, sign in\, make note of your table number\, grab a drink and mingle  \n7pm – A bell will ring and members will to go into their tables (eg\, table 1\,2\,3 or 4) Taking turns to go round the table one by one to introduce themselves and their businesses. (Try to stick to 1-2 minutes per person – save questions until the end)  \n7:30pm – Updates from Gittgo and Spotlight Speakers.  \nRest of the time – Mingle  \n   \nMore details from Linda Cloke  \nEmail:  linda@gittgo.co.uk  \nPhone: 01622535724  \nMob:     07769943756  \n 
URL:https://steeryourbusiness.com/event/gittgo-tunbridge-wells-kent-3/
LOCATION:Mercure Tunbridge Wells Hotel\, 8 Tonbridge Road\, Pembury\, Kent\, TN2 4QL\, United Kingdom
CATEGORIES:Networking
ATTACH;FMTTYPE=image/webp:https://steeryourbusiness.com/wp-content/uploads/2024/08/Gittgo-Black-Logo.webp
END:VEVENT
END:VCALENDAR